BEGIN:VCALENDAR
VERSION:2.0
PRODID:-//Associations21 - ECPv6.15.20//NONSGML v1.0//EN
CALSCALE:GREGORIAN
METHOD:PUBLISH
X-ORIGINAL-URL:https://associations21.org
X-WR-CALDESC:Évènements pour Associations21
REFRESH-INTERVAL;VALUE=DURATION:PT1H
X-Robots-Tag:noindex
X-PUBLISHED-TTL:PT1H
BEGIN:VTIMEZONE
TZID:UTC
BEGIN:STANDARD
TZOFFSETFROM:+0000
TZOFFSETTO:+0000
TZNAME:UTC
DTSTART:20210101T000000
END:STANDARD
END:VTIMEZONE
BEGIN:VEVENT
DTSTART;VALUE=DATE:20221005
DTEND;VALUE=DATE:20221006
DTSTAMP:20260422T142539
CREATED:20220728T125848Z
LAST-MODIFIED:20220728T125848Z
UID:8142-1664928000-1665014399@associations21.org
SUMMARY:Animation CAP 2030 IEC à Namur
DESCRIPTION:05/10/2022 \nAnimation CAP 2030 à l’Institut Eco-Conseil : https://www.eco-conseil.be/ \n \n 
URL:https://associations21.org/event/animation-cap-2030-iec-a-namur/
LOCATION:Mundo N
ORGANIZER;CN="Associations 21":MAILTO:contact@associations21.org
END:VEVENT
END:VCALENDAR