BEGIN:VCALENDAR
VERSION:2.0
PRODID:-//Associations21 - ECPv6.15.20//NONSGML v1.0//EN
CALSCALE:GREGORIAN
METHOD:PUBLISH
X-WR-CALNAME:Associations21
X-ORIGINAL-URL:https://associations21.org
X-WR-CALDESC:Évènements pour Associations21
REFRESH-INTERVAL;VALUE=DURATION:PT1H
X-Robots-Tag:noindex
X-PUBLISHED-TTL:PT1H
BEGIN:VTIMEZONE
TZID:Europe/Brussels
BEGIN:DAYLIGHT
TZOFFSETFROM:+0100
TZOFFSETTO:+0200
TZNAME:CEST
DTSTART:20220327T010000
END:DAYLIGHT
BEGIN:STANDARD
TZOFFSETFROM:+0200
TZOFFSETTO:+0100
TZNAME:CET
DTSTART:20221030T010000
END:STANDARD
BEGIN:DAYLIGHT
TZOFFSETFROM:+0100
TZOFFSETTO:+0200
TZNAME:CEST
DTSTART:20230326T010000
END:DAYLIGHT
BEGIN:STANDARD
TZOFFSETFROM:+0200
TZOFFSETTO:+0100
TZNAME:CET
DTSTART:20231029T010000
END:STANDARD
BEGIN:DAYLIGHT
TZOFFSETFROM:+0100
TZOFFSETTO:+0200
TZNAME:CEST
DTSTART:20240331T010000
END:DAYLIGHT
BEGIN:STANDARD
TZOFFSETFROM:+0200
TZOFFSETTO:+0100
TZNAME:CET
DTSTART:20241027T010000
END:STANDARD
END:VTIMEZONE
BEGIN:VEVENT
DTSTART;VALUE=DATE:20231108
DTEND;VALUE=DATE:20231110
DTSTAMP:20260423T130854
CREATED:20231010T082751Z
LAST-MODIFIED:20231010T082751Z
UID:9589-1699401600-1699574399@associations21.org
SUMMARY:Conférence pour une Transition Juste en Belgique
DESCRIPTION:Les 8 et 9 novembre 2023: deux journées de conférence sur la transition juste qui se termineront par une soirée de clôture. \nOù ? SQUARE – Bruxelles \nDans son accord de gouvernement du 30 septembre 2020\, le gouvernement fédéral a indiqué son intention d’organiser cette conférence dans notre pays. La ministre fédérale du Climat\, de l’Environnement\, du Développement durable et du Green Deal\, Zakia Khattabi\, est chargée de son organisation. C’est pourquoi elle a réuni des décideurs politiques de tout le pays\, des parties prenantes\, des experts universitaires et des citoyens pour discuter des questions cruciales liées à la transition écologique\, en mettant l’accent sur l’importance qu’elle se déroule de façon juste pour tous. \nComme le soulignent les principes directeurs sur la transition juste de l’Organisation internationale du Travail de 2015\, il n’y a pas de solution universelle. Les politiques doivent être adaptées aux circonstances spécifiques\, à la culture et à la réalité économique de chaque pays. Cette conférence a été préparée intensivement au cours des deux dernières années par un groupe diversifié de parties prenantes\, notamment des experts universitaires\, des partenaires sociaux\, la société civile\, un panel de citoyens tirés au sort\, des fonctionnaires et divers organes consultatifs. Ils ont rédigé des rapports d’information qui alimenteront la conférence et les choix politiques qui en découleront. \nÀ quoi s’attendre ?\n• Des sessions plénières avec des discours et présentations \n• Des séminaires sur les défis clés d’une transition juste (en présence des ministres ou leurs représentants) \n• Des moments de mise en réseau pour apprendre les uns des autres \n  \n  \nInformations et inscription
URL:https://associations21.org/event/conference-pour-une-transition-juste-en-belgique/
LOCATION:SQUARE Brussels\, Rue Ravenstein 2\, Bruxelles\, 1000
CATEGORIES:A venir ! (event)
END:VEVENT
END:VCALENDAR